BEGIN:VCALENDAR
VERSION:2.0
PRODID:-//wp-events-plugin.com//7.2.3.1//EN
TZID:America/Denver
X-WR-TIMEZONE:America/Denver
BEGIN:VEVENT
UID:4@bgcmd.org
DTSTART;TZID=America/Denver:20230406T170000
DTEND;TZID=America/Denver:20230406T170000
DTSTAMP:20230830T200648Z
URL:https://www.bgcmd.org/es/events/boys-girls-clubs-of-metro-denver-easte
 r-hat-parade/
SUMMARY:Boys & Girls Clubs of Metro Denver Easter Hat Parade
DESCRIPTION:April 6\, 2023  \n\nContact: \nBoys &amp\; Girls Clubs of Met
 ro Denver\nLauren Kamm\, VP of Marketing &amp\; Communications\n720-616-16
 53 | laurenk@bgcmd.org \n\n \nMEDIA ADVISORY / PHOTO OPPORTUNITY \nBoys 
 &amp\; Girls Club Members present their artistic Easter hat creations at t
 he Club’s annual Easter Hat Parade \n\nWHO:  Staff members and Club me
 mbers from Boys &amp\; Girls Clubs of Metro Denver\, administrative staff 
 members of Boys &amp\; Girls Clubs of Metro Denver  \n\nWHAT: Across the 
 city\, Boys &amp\; Girls Clubs of Metro Denver's members have been working
  hard designing and creating their own unique Easter hats that will be on 
 display at the annual Easter Hat Parade. These 3D\, creative masterpieces 
 showcase our members’ artistic talent and interests. \n\nHOW: Boys &amp
 \; Girls Club of Metro Denver staff and members from different Clubs throu
 ghout the Metro Denver area\, as well as other community audiences will ga
 ther together at Denver Broncos Boys &amp\; Girls Club for this fun annual
  tradition.  \n\nWHEN: Thursday\, April 6\, 2023 \n\n5 p.m. — Easter 
 Hat Parade begins \n\nWHERE:\nDenver Broncos Boys &amp\; Girls Club  \n4
 397 Crown Blvd.\nDenver\, CO 80239 \n\nWHY:  Visual and cultural arts are
  an essential element of Boys &amp\; Girls Clubs of Metro Denver’s progr
 amming. The Easter Hat parade is a culmination event that provides Club me
 mbers the opportunity to present their work of art and creativity to each 
 other and the community.  \n\nAVAILABLE FOR INTERVIEWS: \n\n 	Lauren Ka
 mm\, Vice President of Marketing &amp\; Communications at Boys &amp\; Girl
 s Clubs of Metro Denver \n 	Rich Barrows\, Club Director at Denver Bronco
 s Boys &amp\; Girls Club \n 	Members of Boys &amp\; Girls Clubs of Metro 
 Denver  \n\n 
END:VEVENT
BEGIN:VTIMEZONE
TZID:America/Denver
X-LIC-LOCATION:America/Denver
BEGIN:DAYLIGHT
DTSTART:20230312T030000
TZOFFSETFROM:-0700
TZOFFSETTO:-0600
TZNAME:MDT
END:DAYLIGHT
END:VTIMEZONE
END:VCALENDAR