BEGIN:VCALENDAR
VERSION:2.0
PRODID:-//wp-events-plugin.com//7.2.3.1//EN
TZID:America/Denver
X-WR-TIMEZONE:America/Denver
BEGIN:VEVENT
UID:5@bgcmd.org
DTSTART;TZID=America/Denver:20230719T100000
DTEND;TZID=America/Denver:20230719T140000
DTSTAMP:20230830T200921Z
URL:https://www.bgcmd.org/es/events/boys-girls-clubs-of-metro-denver-2023-
 pinewood-derby/
SUMMARY:Boys & Girls Clubs of Metro Denver 2023 Pinewood Derby  
DESCRIPTION:July 18\, 2023  \n\nContact:  \n\nBoys &amp\; Girls Clubs of
  Metro Denver\nSuzanne Whitney\, Director of Marketing &amp\; Communicatio
 ns\n303-446-6798 | suzannew@bgcmd.org \nMEDIA ADVISORY / PHOTO OPPORTUNITY
  \nBoys &amp\; Girls Clubs of Metro Denver Presents the 2023 Pinewood Der
 by  \n\nWHO: Boys &amp\; Girls Clubs of Metro Denver members\, Boys &amp
 \; Girls Clubs of Metro Denver Staff  \n\nWHAT: Join us for the thrillin
 g 2023 Pinewood Derby Event\, where young racers from various Boys &amp\; 
 Girls Clubs in the Metro Denver area will showcase their creativity and sk
 ill in a friendly racing competition. Witness the excitement as miniature 
 wooden cars race down the specially designed track\, vying for speed\, pre
 cision\, and design excellence.  \n\nWHEN: Wednesday\, July 19\, 2023 \
 n\n10 a.m. - 2 p.m.    \n\nWHERE: Arthur E. Johnson Boys &amp\; Girls 
 Club  \n\n3325 W 16th Ave.\nDenver\, CO 80204 \n\nWHY: The Pinewood Der
 by is an annual tradition that promotes creativity\, teamwork\, and friend
 ly competition among Boys &amp\; Girls Clubs members. It offers a fun and 
 engaging experience that nurtures problem-solving skills and character dev
 elopment. \n\nAVAILABLE FOR INTERVIEWS: \n\n 	Suzanne Whitney\, Director
  of Marketing and Communications for Boys &amp\; Girls Clubs of Metro Denv
 er \n\n 
END:VEVENT
BEGIN:VTIMEZONE
TZID:America/Denver
X-LIC-LOCATION:America/Denver
BEGIN:DAYLIGHT
DTSTART:20230312T030000
TZOFFSETFROM:-0700
TZOFFSETTO:-0600
TZNAME:MDT
END:DAYLIGHT
END:VTIMEZONE
END:VCALENDAR