BEGIN:VCALENDAR
VERSION:2.0
PRODID:-//wp-events-plugin.com//7.2.3.1//EN
TZID:America/Denver
X-WR-TIMEZONE:America/Denver
BEGIN:VEVENT
UID:3@bgcmd.org
DTSTART;TZID=America/Denver:20230313T100000
DTEND;TZID=America/Denver:20230313T100000
DTSTAMP:20230830T200404Z
URL:https://www.bgcmd.org/es/events/boys-girls-club-members-tour-the-csu-s
 pur-campus/
SUMMARY:Boys & Girls Club members tour the CSU Spur campus
DESCRIPTION:MEDIA ADVISORY / PHOTO OPPORTUNITY  \n\nBoys &amp\; Girls Clu
 bs of Metro Denver members to visit CSU Spur as part of a partnership to i
 ntroduce kids and teens to a wide array of career opportunities  \n\nWHA
 T: 14 Shopneck Boys &amp\; Girls Club members will tour the CSU Spur campu
 s and experience interactive exhibits to provide fresh career ideas and op
 portunities. \n\nHOW: Shopneck Club members will be the third group of Bo
 ys &amp\; Girls Clubs of Metro Denver students to experience the different
  aspects and services offered by CSU Spur to the Colorado community.  \n
 \nWHEN: Monday\, March 13\, 2023 \n\n10 a.m. — Visit at CSU Spur campus
  begins  \n\nWHERE:\n\nCSU Spur Campus\n4777 National Western Dr.\nDenve
 r\, CO 80216 \n\nWHY:  Boys &amp\; Girls Clubs of Metro Denver has partne
 red with several different organizations to continue to promote a wide ran
 ge of career and college paths for Club members of all ages. “Academics 
 &amp\; Careers” is one of four key program outcome areas for Boys &amp\;
  Girls Clubs of Metro Denver. Partnerships like this provide Club members 
 with the opportunity to expand their conception of career and learn how bi
 g a part they play in building great futures for themselves and their comm
 unities.  \n\nAVAILABLE FOR INTERVIEWS: \n\n 	Lauren Kamm\, Vice Presid
 ent of Marketing &amp\; Communications at Boys &amp\; Girls Clubs of Metro
  Denver \n 	Andrew Worcester\, Club Director at Shopneck Boys &amp\; Girl
 s Club  \n 	Members of Shopneck Boys &amp\; Girls Club \n 	Tiana Kenned
 y\, Associate Vice Chancellor\, External Relations\, Colorado State Univer
 sity System  \n
END:VEVENT
BEGIN:VTIMEZONE
TZID:America/Denver
X-LIC-LOCATION:America/Denver
BEGIN:DAYLIGHT
DTSTART:20230312T030000
TZOFFSETFROM:-0700
TZOFFSETTO:-0600
TZNAME:MDT
END:DAYLIGHT
END:VTIMEZONE
END:VCALENDAR